BEGIN:VCALENDAR
PRODID:-//kirchenweb.ch gmbh//veranstaltungsausgabe v2.0//DE
VERSION:2.0
METHOD:PUBLISH
BEGIN:VEVENT
DTSTART:20260424T160000Z
DTEND:20260424T170000Z
LOCATION:Pfarrkirche St. Sebastian\, Eichlistrasse 11\, 6405 Immensee
TRANSP:OPAQUE
SEQUENCE:0
UID:2794-veranstaltung@kath-immensee.ch
DTSTAMP:20250919T112435Z
DESCRIPTION:Kontakt: markus.lussy@kath-immensee.ch\n\nWeitere Infos:
  https://www.kath-immensee.ch/veranstaltung/2794
SUMMARY:Hl. Messe
PRIORITY:5
X-MICROSOFT-CDO-IMPORTANCE:1
CLASS:PUBLIC
END:VEVENT
END:VCALENDAR
