BEGIN:VCALENDAR
PRODID:-//kirchenweb.ch gmbh//veranstaltungsausgabe v2.0//DE
VERSION:2.0
METHOD:PUBLISH
BEGIN:VEVENT
DTSTART:20260502T140000Z
DTEND:20260502T150000Z
LOCATION:Sunnehof - Zuhause im Alter\, Immostrasse 15\, 6405 Immensee
TRANSP:OPAQUE
SEQUENCE:0
UID:2813-veranstaltung@kath-immensee.ch
DTSTAMP:20250919T112840Z
DESCRIPTION:Kontakt: markus.lussy@kath-immensee.ch\n\nWeitere Infos:
  https://www.kath-immensee.ch/veranstaltung/2813
SUMMARY:Hl. Messe im Sunnehof
PRIORITY:5
X-MICROSOFT-CDO-IMPORTANCE:1
CLASS:PUBLIC
END:VEVENT
END:VCALENDAR
