BEGIN:VCALENDAR
PRODID:-//kirchenweb.ch gmbh//veranstaltungsausgabe v2.0//DE
VERSION:2.0
METHOD:PUBLISH
BEGIN:VEVENT
DTSTART:20260423T170000Z
DTEND:20260423T190000Z
LOCATION:Pfarrkirche St. Sebastian\, Eichlistrasse 11\, 6405 Immensee
TRANSP:OPAQUE
SEQUENCE:0
UID:2909-veranstaltung@kath-immensee.ch
DTSTAMP:20260112T164444Z
DESCRIPTION:Kontakt: markus.lussy@kath-immensee.ch\n\nWeitere Infos:
  https://www.kath-immensee.ch/veranstaltung/2909
SUMMARY:Gebetsabend Rosenkranz\, Hl. Messe\, Anbetung
PRIORITY:5
X-MICROSOFT-CDO-IMPORTANCE:1
CLASS:PUBLIC
END:VEVENT
END:VCALENDAR
